BEGIN:VCALENDAR
VERSION:2.0
PRODID:-//AOM - Arizona Optical Metrology - ECPv6.15.20//NONSGML v1.0//EN
CALSCALE:GREGORIAN
METHOD:PUBLISH
X-ORIGINAL-URL:https://aom.us
X-WR-CALDESC:Events for AOM - Arizona Optical Metrology
REFRESH-INTERVAL;VALUE=DURATION:PT1H
X-Robots-Tag:noindex
X-PUBLISHED-TTL:PT1H
BEGIN:VTIMEZONE
TZID:America/Phoenix
BEGIN:STANDARD
TZOFFSETFROM:-0700
TZOFFSETTO:-0700
TZNAME:MST
DTSTART:20230101T000000
END:STANDARD
END:VTIMEZONE
BEGIN:VEVENT
DTSTART;VALUE=DATE:20240130
DTEND;VALUE=DATE:20240202
DTSTAMP:20260421T131025
CREATED:20231208T201747Z
LAST-MODIFIED:20231226T201830Z
UID:987514926-1706572800-1706831999@aom.us
SUMMARY:SPIE Photonics West 2024
DESCRIPTION:AOM is excited to announce that we will be exhibiting our innovative upward-looking fold metrology system at SPIE Photonics West 2024. This system redirects a horizontal interferometer’s beam into a vertical orientation\, enabling test optic mounting that utilizes gravity for ease of use: just pick\, place\, and measure! \nCome and see us in the Arizona cluster of Hall A at booth #559 and learn how our system can help you achieve your optical metrology goals. We look forward to meeting you at the world’s largest photonics technologies event!
URL:https://aom.us/event/spie-photonics-west-2024/
LOCATION:Moscone Center\, 747 Howard St\, San Francisco\, CA\, 94103\, United States
CATEGORIES:AOM Events
ATTACH;FMTTYPE=image/png:https://eadn-wc03-16117417.nxedge.io/wp-content/uploads/2023/11/Photonics-West-2024-Email-Sig-Banner-FINAL-Reduced-Size.png
END:VEVENT
BEGIN:VEVENT
DTSTART;VALUE=DATE:20240124
DTEND;VALUE=DATE:20240127
DTSTAMP:20260421T131025
CREATED:20231215T215313Z
LAST-MODIFIED:20231215T220251Z
UID:987515042-1706054400-1706313599@aom.us
SUMMARY:Arizona Photonics Days 2024
DESCRIPTION:AOM is excited to participate in Arizona Photonics Days hosted by Optics Valley! \nWe’re looking forward to Aafaque Raza Khan’s talk “[AST5] Challenging Optical Alignments Made Easy With Computer-Generated Holograms (CGHs): An Overview of CGH Based Alignment Schemes for Aspera and FIREBall2\,” which features AOM CGHs. You can attend this talk during the Astronomy Session on Wednesday afternoon. \nBe sure to attend the Sensing & Metrology Session chaired by Dr. Shelby Ament on Thursday. She will be laser-focused on assuring you learn the latest and greatest about sensing and metrology! \nLearn more about the event and register at: Arizona Photonics Days 2024 – Arizona Technology Council (aztechcouncil.org)
URL:https://aom.us/event/arizona-photonics-days-2024/
LOCATION:UA Tech Park Event Center\, 9030 S Rita Road\, Building 9030\, Tucson\, AZ\, 85747\, United States
CATEGORIES:AOM Events
ATTACH;FMTTYPE=image/jpeg:https://eadn-wc03-16117417.nxedge.io/wp-content/uploads/2023/12/APD-2024-Banner-_1200x292_.jpg
END:VEVENT
END:VCALENDAR