BEGIN:VCALENDAR
VERSION:2.0
PRODID:-//AOM - Arizona Optical Metrology - ECPv6.15.20//NONSGML v1.0//EN
CALSCALE:GREGORIAN
METHOD:PUBLISH
X-WR-CALNAME:AOM - Arizona Optical Metrology
X-ORIGINAL-URL:https://aom.us
X-WR-CALDESC:Events for AOM - Arizona Optical Metrology
REFRESH-INTERVAL;VALUE=DURATION:PT1H
X-Robots-Tag:noindex
X-PUBLISHED-TTL:PT1H
BEGIN:VTIMEZONE
TZID:America/Phoenix
BEGIN:STANDARD
TZOFFSETFROM:-0700
TZOFFSETTO:-0700
TZNAME:MST
DTSTART:20250101T000000
END:STANDARD
END:VTIMEZONE
BEGIN:VEVENT
DTSTART;VALUE=DATE:20261026
DTEND;VALUE=DATE:20261031
DTSTAMP:20260422T013307
CREATED:20260406T225843Z
LAST-MODIFIED:20260406T225843Z
UID:987520048-1792972800-1793404799@aom.us
SUMMARY:2026 ASPE Annual Meeting & Expo
DESCRIPTION:The American Society for Precision Engineering is hosting their 2026 Annual Meeting and Expo in Norfolk\, Virginia from October 26-30\, 2026. This event gathers experts in a variety of precision engineering fields and includes: \n\n20+ Tutorials\, taught by leading experts in precision engineering\nTechnical & Poster Sessions\nExhibits & Innovation Expo\nNetworking Opportunities & Local Technical Tours\nStudent Challenge Competition\n\nDr. Jim Burge will be speaking at this year’s meeting.
URL:https://aom.us/event/2026-aspe-annual-meeting-expo/
LOCATION:Sheraton Norfolk Waterside Hotel\, 777 Waterside Dr\, Norfolk\, VA\, 23510\, United States
ATTACH;FMTTYPE=image/webp:https://eadn-wc03-16117417.nxedge.io/wp-content/uploads/2026/04/ASPE-2026-Web-Event-Thumbnail_3.webp
END:VEVENT
END:VCALENDAR