BEGIN:VCALENDAR
VERSION:2.0
PRODID:-//AOM - Arizona Optical Metrology - ECPv6.15.20//NONSGML v1.0//EN
CALSCALE:GREGORIAN
METHOD:PUBLISH
X-WR-CALNAME:AOM - Arizona Optical Metrology
X-ORIGINAL-URL:https://aom.us
X-WR-CALDESC:Events for AOM - Arizona Optical Metrology
REFRESH-INTERVAL;VALUE=DURATION:PT1H
X-Robots-Tag:noindex
X-PUBLISHED-TTL:PT1H
BEGIN:VTIMEZONE
TZID:America/Phoenix
BEGIN:STANDARD
TZOFFSETFROM:-0700
TZOFFSETTO:-0700
TZNAME:MST
DTSTART:20250101T000000
END:STANDARD
END:VTIMEZONE
BEGIN:VEVENT
DTSTART;VALUE=DATE:20260909
DTEND;VALUE=DATE:20260912
DTSTAMP:20260421T235443
CREATED:20260413T225643Z
LAST-MODIFIED:20260413T225643Z
UID:987520069-1788912000-1789171199@aom.us
SUMMARY:China International Optoelectronic Expo (CIOE) 2026
DESCRIPTION:AOM will be on-site at CIOE September 9-11\, 2026 talking about Computer Generated Holograms\, Optical Metrology solutions\, and more! \nThe China International Optoelectronic Exposition showcases advancements in industries from information and communication\, precision optics\, camera technology & applications to laser and intelligent manufacturing\, infrared\, ultraviolet\, intelligent sensing\, display\, AR&VR\, and photonics innovations.
URL:https://aom.us/event/china-international-optoelectronic-expo-cioe-2026/
LOCATION:Shenzhen World Exhibition and Convention Center\, No. 1 Zhancheng Road\, Fuhai Street\, Bao 'an District\, Shenzhen\, China
ATTACH;FMTTYPE=image/webp:https://eadn-wc03-16117417.nxedge.io/wp-content/uploads/2026/04/CIOE-2026_2.webp
END:VEVENT
END:VCALENDAR