BEGIN:VCALENDAR
VERSION:2.0
PRODID:-//AOM - Arizona Optical Metrology - ECPv6.15.20//NONSGML v1.0//EN
CALSCALE:GREGORIAN
METHOD:PUBLISH
X-ORIGINAL-URL:https://aom.us
X-WR-CALDESC:Events for AOM - Arizona Optical Metrology
REFRESH-INTERVAL;VALUE=DURATION:PT1H
X-Robots-Tag:noindex
X-PUBLISHED-TTL:PT1H
BEGIN:VTIMEZONE
TZID:America/Phoenix
BEGIN:STANDARD
TZOFFSETFROM:-0700
TZOFFSETTO:-0700
TZNAME:MST
DTSTART:20250101T000000
END:STANDARD
END:VTIMEZONE
BEGIN:VEVENT
DTSTART;VALUE=DATE:20260120
DTEND;VALUE=DATE:20260123
DTSTAMP:20260421T233751
CREATED:20250828T213129Z
LAST-MODIFIED:20250909T151736Z
UID:987519529-1768867200-1769126399@aom.us
SUMMARY:SPIE Photonics West 2026
DESCRIPTION:See You in San Francisco! AOM at Photonics West 2026 – Booth #562 \nWe’re gearing up for SPIE Photonics West\, happening January 20 – 22 at the Moscone Center. Come meet Dr. Chunyu Zhao\, Tyler Steele\, and Dr. Christine Muccianti at Booth #562—they’re ready to talk holograms\, complex optics\, and the tools that make precision testing possible. \nWhether you’re curious about CGH metrology or looking for tailored optical measurement solutions\, we’d love to connect with you in San Francisco.
URL:https://aom.us/event/spie-photonics-west-2026/
LOCATION:Moscone Center\, 747 Howard St\, San Francisco\, CA\, 94103\, United States
ATTACH;FMTTYPE=image/jpeg:https://eadn-wc03-16117417.nxedge.io/wp-content/uploads/2025/08/photonics_west_2026_square.jpg
END:VEVENT
END:VCALENDAR