BEGIN:VCALENDAR
VERSION:2.0
PRODID:-//AOM - Arizona Optical Metrology - ECPv6.15.20//NONSGML v1.0//EN
CALSCALE:GREGORIAN
METHOD:PUBLISH
X-WR-CALNAME:AOM - Arizona Optical Metrology
X-ORIGINAL-URL:https://aom.us
X-WR-CALDESC:Events for AOM - Arizona Optical Metrology
REFRESH-INTERVAL;VALUE=DURATION:PT1H
X-Robots-Tag:noindex
X-PUBLISHED-TTL:PT1H
BEGIN:VTIMEZONE
TZID:America/Phoenix
BEGIN:STANDARD
TZOFFSETFROM:-0700
TZOFFSETTO:-0700
TZNAME:MST
DTSTART:20240101T000000
END:STANDARD
END:VTIMEZONE
BEGIN:VEVENT
DTSTART;VALUE=DATE:20251103
DTEND;VALUE=DATE:20251108
DTSTAMP:20260422T024012
CREATED:20250828T213548Z
LAST-MODIFIED:20250909T151338Z
UID:987519531-1762128000-1762559999@aom.us
SUMMARY:ASPE 40th Annual Meeting
DESCRIPTION:AOM Proudly Supports Precision Engineering at ASPE’s 40th Annual Meeting \nJoin AOM\, a Sustaining Corporate Member of the American Society for Precision Engineering (ASPE)\, at the 40th Annual Meeting—set for November 3–7\, 2025\, at the Omni San Diego in the vibrant Gaslamp Quarter. This premier event brings together leaders in precision engineering to discuss the latest in metrology\, design\, micromanufacturing\, and more. \nWe’re excited to share that AOM president\, Dr. Jim Burge\, will deliver a presentation during the conference—stay tuned for updates on topic and timing! This is your chance to connect with our team\, explore innovations\, and celebrate breakthroughs in precision engineering. See you in San Diego!
URL:https://aom.us/event/aspe-40th-annual-meeting/
LOCATION:Omni San Diego\, 675 L St\, San Diego\, CA\, 92101\, United States
ATTACH;FMTTYPE=image/jpeg:https://eadn-wc03-16117417.nxedge.io/wp-content/uploads/2025/08/aspe_40th_square.jpg
END:VEVENT
END:VCALENDAR